BEGIN:VCALENDAR
VERSION:2.0
PRODID:icalendar-ruby
CALSCALE:GREGORIAN
METHOD:PUBLISH
BEGIN:VEVENT
DTSTAMP:20260424T015739Z
UID:320-608415@ninevahbaptist.com
DTSTART:20261025T140000Z
DTEND:20261025T150000Z
CLASS:PUBLIC
CREATED:20260423T212121
DESCRIPTION:Our Sunday School begins at 10am. We have classes for all ages!
  Come join us as we grow together in the Word of God.
LAST-MODIFIED:20260423T212121
LOCATION:
SUMMARY:Sunday School
URL;VALUE=URI:https://ninevahbaptist.com/events/sunday-school--320/2026-10-
 25
ATTACH;FILENAME=Sunday-School.jfif;FMTTYPE=image/jpeg:https://dq5pwpg1q8ru0
 .cloudfront.net/2025/02/25/14/55/25/208913c2-bb52-41d1-89ed-b886a4778dfc/S
 unday-School.jfif
END:VEVENT
END:VCALENDAR
