BEGIN:VCALENDAR
VERSION:2.0
PRODID:icalendar-ruby
CALSCALE:GREGORIAN
METHOD:PUBLISH
BEGIN:VEVENT
DTSTAMP:20260423T093431Z
UID:348-604636@ninevahbaptist.com
DTSTART:20260927T140000Z
DTEND:20260927T150000Z
CLASS:PUBLIC
CREATED:20260422T211922
DESCRIPTION:Our Sunday School begins at 10am every Sunday morning. We have 
 classes for all ages. Come join us as we grow together in the Lord.
LAST-MODIFIED:20260422T211922
LOCATION:
SUMMARY:Sunday School
URL;VALUE=URI:https://ninevahbaptist.com/events/sunday-school--348/2026-09-
 27
ATTACH;FILENAME=Sunday-School.jfif;FMTTYPE=image/jpeg:https://dq5pwpg1q8ru0
 .cloudfront.net/2025/02/25/15/51/36/0afb1378-61a7-49aa-9ff0-f5828cd76390/S
 unday-School.jfif
END:VEVENT
END:VCALENDAR
